BEGIN:VCALENDAR
VERSION:2.0
PRODID:-//КДАіС
CALSCALE:GREGORIAN
METHOD:PUBLISH
X-WR-CALNAME:КДАіС
X-ORIGINAL-URL:https://kdais.kiev.ua/event/24012021/
X-WR-CALDESC:Неділя 33-тя після П&#8217;ятидесятниці, після Богоявлення
BEGIN:VEVENT
DTSTART:20210124T233000
DTEND:20210124T233000
SUMMARY:Неділя 33-тя після П&#8217;ятидесятниці, після Богоявлення
DESCRIPTION:Ректор КДАіС єпископ Білогородський Сильвестр звершив Літургію у Богоявленському храмі Першого Дарницького благочиння м. Києва.
LOCATION:
END:VEVENT
END:VCALENDAR
