BEGIN:VCALENDAR
VERSION:2.0
PRODID:-//КДАіС
CALSCALE:GREGORIAN
METHOD:PUBLISH
X-WR-CALNAME:КДАіС
X-ORIGINAL-URL:https://kdais.kiev.ua/event/rektor-kda%d1%96s-zustr%d1%96vsya-z-vikladacham/
X-WR-CALDESC:Ректор КДАіС зустрівся з викладачами та студентами Православно-катехізаторських курсів при КДАіС
BEGIN:VEVENT
DTSTART:20210213T233000
DTEND:20210213T233000
SUMMARY:Ректор КДАіС зустрівся з викладачами та студентами Православно-катехізаторських курсів при КДАіС
DESCRIPTION:На зустрічі владика ректор представив нового завідувача катехізаторських курсів, а також відповів на питання присутніх. 
LOCATION:
END:VEVENT
END:VCALENDAR
