BEGIN:VCALENDAR
VERSION:2.0
PRODID:-//КДАіС
CALSCALE:GREGORIAN
METHOD:PUBLISH
X-WR-CALNAME:КДАіС
X-ORIGINAL-URL:https://kdais.kiev.ua/event/bozhestvenna-l%d1%96turg%d1%96ya-u-ned%d1%96lyu-pro-zak/
X-WR-CALDESC:Божественна літургія у Неділю про Закхея
BEGIN:VEVENT
DTSTART:20210214T233000
DTEND:20210214T233000
SUMMARY:Божественна літургія у Неділю про Закхея
DESCRIPTION:Єпископ Білогородський Сильвестр очолив богослужіння в храмі на честь вмч. Варвари у Першому Дарницькому благочинні, що при міській онколікарні на Березняках.
LOCATION:
END:VEVENT
END:VCALENDAR
