BEGIN:VCALENDAR
VERSION:2.0
PRODID:-//КДАіС
CALSCALE:GREGORIAN
METHOD:PUBLISH
X-WR-CALNAME:КДАіС
X-ORIGINAL-URL:https://kdais.kiev.ua/event/zaypokoine-bogoslygina-05032021/
X-WR-CALDESC:Вечірнє богослужіння напередодні Вселенської батьківської суботи
BEGIN:VEVENT
DTSTART:20210305T233000
DTEND:20210305T233000
SUMMARY:Вечірнє богослужіння напередодні Вселенської батьківської суботи
DESCRIPTION:Богослужіння очолив проректор з виховної роботи єпископ Згурівський Амвросій.

LOCATION:
END:VEVENT
END:VCALENDAR
