BEGIN:VCALENDAR
VERSION:2.0
PRODID:-//КДАіС
CALSCALE:GREGORIAN
METHOD:PUBLISH
X-WR-CALNAME:КДАіС
X-ORIGINAL-URL:https://kdais.kiev.ua/event/08032021/
X-WR-CALDESC:Професор КДА виступив на ХХХІ щорічній богословській конференції в Православному Свято-Тихонівському гуманітарному університеті
BEGIN:VEVENT
DTSTART:20210308T233000
DTEND:20210308T233000
SUMMARY:Професор КДА виступив на ХХХІ щорічній богословській конференції в Православному Свято-Тихонівському гуманітарному університеті
DESCRIPTION:Київські духовні школи на конференції представив професор протоієрей Ростислав Снігірьов, який виступив з доповіддю на тему: «Канонічний підхід до тлумачення Священного Писання як можливість зняття реальних та уявних протиріч між святоотцівською екзегезою та історико-критичним дослідженням Біблії».
LOCATION:
END:VEVENT
END:VCALENDAR
