BEGIN:VCALENDAR
VERSION:2.0
PRODID:-//КДАіС
CALSCALE:GREGORIAN
METHOD:PUBLISH
X-WR-CALNAME:КДАіС
X-ORIGINAL-URL:https://kdais.kiev.ua/event/parastass13032021/
X-WR-CALDESC:В Академії піднесли заупокійні молитви за спочилого ректора КДА прот. Миколая Забуги (+2014) у 70-річчя з Дня його народження (+відео)
BEGIN:VEVENT
DTSTART:20210313T233000
DTEND:20210313T233000
SUMMARY:В Академії піднесли заупокійні молитви за спочилого ректора КДА прот. Миколая Забуги (+2014) у 70-річчя з Дня його народження (+відео)
DESCRIPTION:Заупокійне богослужіння звершили ректор Київської духовної академії і семінарії єпископ Білогородський Сильвестр та проректор з виховної роботи єпископ Згурівський Амвросій.
LOCATION:
END:VEVENT
END:VCALENDAR
