BEGIN:VCALENDAR
VERSION:2.0
PRODID:-//КДАіС
CALSCALE:GREGORIAN
METHOD:PUBLISH
X-WR-CALNAME:КДАіС
X-ORIGINAL-URL:https://kdais.kiev.ua/event/vitannya14032021/
X-WR-CALDESC:Вітаємо проректора з виховної роботи доцента єпископа Згурівського Амвросія з Днем народження!
BEGIN:VEVENT
DTSTART:20210314T233000
DTEND:20210314T233000
SUMMARY:Вітаємо проректора з виховної роботи доцента єпископа Згурівського Амвросія з Днем народження!
DESCRIPTION:Всещедра милість Божа і всесильна допомога Спасителя нашого нехай супроводжують Вас в архіпастирських трудах на благо Святої Церкви та Київських духовних шкіл.
LOCATION:
END:VEVENT
END:VCALENDAR
