BEGIN:VCALENDAR
VERSION:2.0
PRODID:-//КДАіС
CALSCALE:GREGORIAN
METHOD:PUBLISH
X-WR-CALNAME:КДАіС
X-ORIGINAL-URL:https://kdais.kiev.ua/event/kanon18032021/
X-WR-CALDESC:Ректор КДА звершив читання останньої частини канону прп. Андрія Критського у храмовому комплексі Різдва Христового, що на Березняках
BEGIN:VEVENT
DTSTART:20210318T233000
DTEND:20210318T233000
SUMMARY:Ректор КДА звершив читання останньої частини канону прп. Андрія Критського у храмовому комплексі Різдва Христового, що на Березняках
DESCRIPTION:Під час Великого повечір’я та Великого канону викладачі, студенти і вихованці Київських духовних шкіл молились в Академічному храмі на честь Різдва Божої Матері та Трапезному храмі на честь преподобних Антонія і Феодосія Печерських Києво-Печерської Лаври.
LOCATION:
END:VEVENT
END:VCALENDAR
