BEGIN:VCALENDAR
VERSION:2.0
PRODID:-//КДАіС
CALSCALE:GREGORIAN
METHOD:PUBLISH
X-WR-CALNAME:КДАіС
X-ORIGINAL-URL:https://kdais.kiev.ua/event/20032021/
X-WR-CALDESC:Божественна літургія свт. Іоанна Златоустого у суботу першої седмиці Великого посту
BEGIN:VEVENT
DTSTART:20210320T233000
DTEND:20210320T233000
SUMMARY:Божественна літургія свт. Іоанна Златоустого у суботу першої седмиці Великого посту
DESCRIPTION:Богослужіння в Академічному храмі очолив Керуючий справами УПЦ митрополит Бориспільський і Броварський Антоній.
LOCATION:
END:VEVENT
END:VCALENDAR
