BEGIN:VCALENDAR
VERSION:2.0
PRODID:-//КДАіС
CALSCALE:GREGORIAN
METHOD:PUBLISH
X-WR-CALNAME:КДАіС
X-ORIGINAL-URL:https://kdais.kiev.ua/event/vitannya30032021/
X-WR-CALDESC:Вітання Блаженнішого Митрополита Онуфрія учасникам XI щорічної студентської конференції «Студентська наука в духовній школі»
BEGIN:VEVENT
DTSTART:20210330T233000
DTEND:20210330T233000
SUMMARY:Вітання Блаженнішого Митрополита Онуфрія учасникам XI щорічної студентської конференції «Студентська наука в духовній школі»
DESCRIPTION:Вітання Предстоятеля УПЦ організаторам та учасникам конференції в КДА, що проходила 30 жовтня 2021 року.
LOCATION:
END:VEVENT
END:VCALENDAR
