BEGIN:VCALENDAR
VERSION:2.0
PRODID:-//КДАіС
CALSCALE:GREGORIAN
METHOD:PUBLISH
X-WR-CALNAME:КДАіС
X-ORIGINAL-URL:https://kdais.kiev.ua/event/parastas02042021/
X-WR-CALDESC:В Академічному храмі звершено Парастас напередодні батьківської поминальної суботи
BEGIN:VEVENT
DTSTART:20210402T233000
DTEND:20210402T233000
SUMMARY:В Академічному храмі звершено Парастас напередодні батьківської поминальної суботи
DESCRIPTION:Богослужіння звершив Керуючий справами УПЦ митрополит Бориспільський і Броварський Антоній.
LOCATION:
END:VEVENT
END:VCALENDAR
