BEGIN:VCALENDAR
VERSION:2.0
PRODID:-//КДАіС
CALSCALE:GREGORIAN
METHOD:PUBLISH
X-WR-CALNAME:КДАіС
X-ORIGINAL-URL:https://kdais.kiev.ua/event/%d0%a1%d1%82%d1%83%d0%b4%d0%b5%d0%bd%d1%82%d0%b8-%d0%9a%d0%94%d0%90%d1%96%d0%a1-%d0%b2%d0%b7%d1%8f%d0%bb%d0%b8-%d1%83%d1%87%d0%b0%d1%81%d1%82%d1%8c-%d1%83-%d0%b7%d0%b0%d1%85%d0%be%d0%b4%d1%96-%d0%bf/
X-WR-CALDESC:Студенти КДАіС взяли участь у заході, присвяченому пам&#8217;яті Т. Шевченка
BEGIN:VEVENT
DTSTART:20180317T050000
DTEND:
SUMMARY:Студенти КДАіС взяли участь у заході, присвяченому пам&#8217;яті Т. Шевченка
DESCRIPTION:На культурному заході вихованці Київських духовних шкіл продекламували «Заповіт» Тараса Шевченка трьома мовами: грузинською, іспанською та англійською.
LOCATION:
END:VEVENT
END:VCALENDAR
