BEGIN:VCALENDAR
VERSION:2.0
PRODID:-//КДАіС
CALSCALE:GREGORIAN
METHOD:PUBLISH
X-WR-CALNAME:КДАіС
X-ORIGINAL-URL:https://kdais.kiev.ua/event/liturgiya06052021/
X-WR-CALDESC:Ректор КДА очолив святкування престольного свята храму на честь вмч. Георгія Побідоносця у Вінниці
BEGIN:VEVENT
DTSTART:20210506T233000
DTEND:20210506T233000
SUMMARY:Ректор КДА очолив святкування престольного свята храму на честь вмч. Георгія Побідоносця у Вінниці
DESCRIPTION:Наприкінці богослужіння владика ректор звернувся до присутніх з архіпастирськими настановами, а також привітав настоятеля, духовенство, парафіян і гостей храму зі Світлим Христовим Воскресінням та престольним святом храму.
LOCATION:
END:VEVENT
END:VCALENDAR
