BEGIN:VCALENDAR
VERSION:2.0
PRODID:-//КДАіС
CALSCALE:GREGORIAN
METHOD:PUBLISH
X-WR-CALNAME:КДАіС
X-ORIGINAL-URL:https://kdais.kiev.ua/event/vytanna22052021-3/
X-WR-CALDESC:Вітаємо викладача та регента хору КДАіС архімандрита Леонтія (Тупкало) з 35-річчям з Дня народження!
BEGIN:VEVENT
DTSTART:20210522T233000
DTEND:20210522T233000
SUMMARY:Вітаємо викладача та регента хору КДАіС архімандрита Леонтія (Тупкало) з 35-річчям з Дня народження!
DESCRIPTION:Прийміть щирі вітання і найкращі побажання від Київських духовних шкіл з нагоди дня Вашого народження!
LOCATION:
END:VEVENT
END:VCALENDAR
