BEGIN:VCALENDAR
VERSION:2.0
PRODID:-//КДАіС
CALSCALE:GREGORIAN
METHOD:PUBLISH
X-WR-CALNAME:КДАіС
X-ORIGINAL-URL:https://kdais.kiev.ua/event/liturhiya27052021/
X-WR-CALDESC:Ієрарх Румунської Православної Церкви звершив Божественну літургію в Академічному храмі на честь Різдва Божої Матері
BEGIN:VEVENT
DTSTART:20210527T233000
DTEND:20210527T233000
SUMMARY:Ієрарх Румунської Православної Церкви звершив Божественну літургію в Академічному храмі на честь Різдва Божої Матері
DESCRIPTION:З благословення ректора КДАіС єпископа Білогородського Сильвестра, богослужіння звершив вікарій Клужської митрополії єпископ Бистрицький Венедикт.
LOCATION:
END:VEVENT
END:VCALENDAR
