BEGIN:VCALENDAR
VERSION:2.0
PRODID:-//КДАіС
CALSCALE:GREGORIAN
METHOD:PUBLISH
X-WR-CALNAME:КДАіС
X-ORIGINAL-URL:https://kdais.kiev.ua/event/bogoslovskijporadnik07062021/
X-WR-CALDESC:В КДА вийшов з друку богословський термінологічно-правописний порадник
BEGIN:VEVENT
DTSTART:20210607T233000
DTEND:20210607T233000
SUMMARY:В КДА вийшов з друку богословський термінологічно-правописний порадник
DESCRIPTION:Видання рекомендовано Вченою радою Київської духовної академії і семінарії та підготовано до друку Видавничим відділом Української Православної Церкви.
LOCATION:
END:VEVENT
END:VCALENDAR
