BEGIN:VCALENDAR
VERSION:2.0
PRODID:-//КДАіС
CALSCALE:GREGORIAN
METHOD:PUBLISH
X-WR-CALNAME:КДАіС
X-ORIGINAL-URL:https://kdais.kiev.ua/event/19062021/
X-WR-CALDESC:Божественна літургія у Троїцьку поминальну суботу
BEGIN:VEVENT
DTSTART:20210619T233000
DTEND:20210619T233000
SUMMARY:Божественна літургія у Троїцьку поминальну суботу
DESCRIPTION:Заупокійну Літургію та панахиду в Академічному храмі очолив проректор з виховної роботи єпископ Згурівський Амвросій.
LOCATION:
END:VEVENT
END:VCALENDAR
