BEGIN:VCALENDAR
VERSION:2.0
PRODID:-//КДАіС
CALSCALE:GREGORIAN
METHOD:PUBLISH
X-WR-CALNAME:КДАіС
X-ORIGINAL-URL:https://kdais.kiev.ua/event/vitannya23062021/
X-WR-CALDESC:Вітаємо співробітницю КДАіС Зайцеву Євгенію Юріївну з Днем народження!
BEGIN:VEVENT
DTSTART:20210623T233000
DTEND:20210623T233000
SUMMARY:Вітаємо співробітницю КДАіС Зайцеву Євгенію Юріївну з Днем народження!
DESCRIPTION:Київські духовні школи щиро вітають Вас з Днем Вашого народження!
LOCATION:
END:VEVENT
END:VCALENDAR
