BEGIN:VCALENDAR
VERSION:2.0
PRODID:-//КДАіС
CALSCALE:GREGORIAN
METHOD:PUBLISH
X-WR-CALNAME:КДАіС
X-ORIGINAL-URL:https://kdais.kiev.ua/event/sluzhba230721/
X-WR-CALDESC:Київська духовна академія і семінарія молитовно відзначила день пам’яті засновника чернецтва на Русі
BEGIN:VEVENT
DTSTART:20210723T233000
DTEND:20210723T233000
SUMMARY:Київська духовна академія і семінарія молитовно відзначила день пам’яті засновника чернецтва на Русі
DESCRIPTION:З нагоди свята Божественну літургію на площі перед Успенським собором Києво-Печерської Лаври очолив Блаженніший Митрополит Київський і всієї України Онуфрій.
LOCATION:
END:VEVENT
END:VCALENDAR
