BEGIN:VCALENDAR
VERSION:2.0
PRODID:-//КДАіС
CALSCALE:GREGORIAN
METHOD:PUBLISH
X-WR-CALNAME:КДАіС
X-ORIGINAL-URL:https://kdais.kiev.ua/event/vstupni-isputu02082021/
X-WR-CALDESC:Завершився перший день вступних іспитів на денне відділення КДАіС
BEGIN:VEVENT
DTSTART:20210802T233000
DTEND:20210802T233000
SUMMARY:Завершився перший день вступних іспитів на денне відділення КДАіС
DESCRIPTION:Цьогоріч документи для вступу на денну форму навчання подали 115 абітурієнтів, з яких 71 — до Семінарії, та 44 — до Академії.
LOCATION:
END:VEVENT
END:VCALENDAR
