BEGIN:VCALENDAR
VERSION:2.0
PRODID:-//КДАіС
CALSCALE:GREGORIAN
METHOD:PUBLISH
X-WR-CALNAME:КДАіС
X-ORIGINAL-URL:https://kdais.kiev.ua/event/chernivci-14082021/
X-WR-CALDESC:Ректор КДА молився за Всенічним бдінням у Свято-Духівському кафедральному соборі м. Чернівці
BEGIN:VEVENT
DTSTART:20210814T233000
DTEND:20210814T233000
SUMMARY:Ректор КДА молився за Всенічним бдінням у Свято-Духівському кафедральному соборі м. Чернівці
DESCRIPTION:Владика ректор перебуває у Чернівецько-Буковинській єпархії з благословення Блаженнішого Митрополита Київського і всієї України Онуфрія та на запрошення керуючого єпархією
LOCATION:
END:VEVENT
END:VCALENDAR
