BEGIN:VCALENDAR
VERSION:2.0
PRODID:-//КДАіС
CALSCALE:GREGORIAN
METHOD:PUBLISH
X-WR-CALNAME:КДАіС
X-ORIGINAL-URL:https://kdais.kiev.ua/event/03092021-liturhiya/
X-WR-CALDESC:Ректор КДА взяв участь у соборному богослужінні у Свято-Введенському монастирі м. Києва
BEGIN:VEVENT
DTSTART:20210903T233000
DTEND:20210903T233000
SUMMARY:Ректор КДА взяв участь у соборному богослужінні у Свято-Введенському монастирі м. Києва
DESCRIPTION:Божественну літургію у день пам’яті Собору преподобних Київських жон: Димитри, Олімпіади, Досифеї, Єлени, Анастасії та Софії очолив намісник обителі архієпископ Фастівський Даміан.
LOCATION:
END:VEVENT
END:VCALENDAR
