BEGIN:VCALENDAR
VERSION:2.0
PRODID:-//КДАіС
CALSCALE:GREGORIAN
METHOD:PUBLISH
X-WR-CALNAME:КДАіС
X-ORIGINAL-URL:https://kdais.kiev.ua/event/liturhiya-05092021/
X-WR-CALDESC:Неділя 11-та після П&#8217;ятидесятниці, віддання свята Успіння Пресвятої Богородиці
BEGIN:VEVENT
DTSTART:20210905T233000
DTEND:20210905T233000
SUMMARY:Неділя 11-та після П&#8217;ятидесятниці, віддання свята Успіння Пресвятої Богородиці
DESCRIPTION:Ректор Київської духовної академії і семінарії єпископ Білогородський Сильвестр звершив Божественну літургію в Академічному храмі на честь Різдва Божої Матері.
LOCATION:
END:VEVENT
END:VCALENDAR
