BEGIN:VCALENDAR
VERSION:2.0
PRODID:-//КДАіС
CALSCALE:GREGORIAN
METHOD:PUBLISH
X-WR-CALNAME:КДАіС
X-ORIGINAL-URL:https://kdais.kiev.ua/event/06092021-vitannya/
X-WR-CALDESC:Єпископ Сильвестр взяв участь в урочистостях з нагоди початку навчального року в Київському інституті інтелектуальної власності та права
BEGIN:VEVENT
DTSTART:20210906T233000
DTEND:20210906T233000
SUMMARY:Єпископ Сильвестр взяв участь в урочистостях з нагоди початку навчального року в Київському інституті інтелектуальної власності та права
DESCRIPTION:Преосвященніший владика звернувся до присутніх з архіпастирськими настановами, передав вітання від Блаженнішого Митрополита Онуфрія та закликав на усіх Боже благословення.
LOCATION:
END:VEVENT
END:VCALENDAR
