BEGIN:VCALENDAR
VERSION:2.0
PRODID:-//КДАіС
CALSCALE:GREGORIAN
METHOD:PUBLISH
X-WR-CALNAME:КДАіС
X-ORIGINAL-URL:https://kdais.kiev.ua/event/liturhiya-12092021/
X-WR-CALDESC:У Неділю 12-ту після П&#8217;ятидесятниці ректор КДА звершив Божественну літургію в Академічному храмі Різдва Божої Матері
BEGIN:VEVENT
DTSTART:20210912T233000
DTEND:20210912T233000
SUMMARY:У Неділю 12-ту після П&#8217;ятидесятниці ректор КДА звершив Божественну літургію в Академічному храмі Різдва Божої Матері
DESCRIPTION:Архіпастирю співслужили члени адміністрації та викладачі Київських духовних шкіл у священному сані.
LOCATION:
END:VEVENT
END:VCALENDAR
