BEGIN:VCALENDAR
VERSION:2.0
PRODID:-//КДАіС
CALSCALE:GREGORIAN
METHOD:PUBLISH
X-WR-CALNAME:КДАіС
X-ORIGINAL-URL:https://kdais.kiev.ua/event/palomnyctvo-13092021/
X-WR-CALDESC:Вихованці 2-го класу КДС відвідали Десятинний монастир на честь Різдва Божої Матері у Києві
BEGIN:VEVENT
DTSTART:20210913T233000
DTEND:20210913T233000
SUMMARY:Вихованці 2-го класу КДС відвідали Десятинний монастир на честь Різдва Божої Матері у Києві
DESCRIPTION:Екскурсію для вихованців 2-го класу Семінарії організував адміністратор культурно-освітньої діяльності доцент протоієрей Сергій Вейго.
LOCATION:
END:VEVENT
END:VCALENDAR
