BEGIN:VCALENDAR
VERSION:2.0
PRODID:-//КДАіС
CALSCALE:GREGORIAN
METHOD:PUBLISH
X-WR-CALNAME:КДАіС
X-ORIGINAL-URL:https://kdais.kiev.ua/event/kafedra18092021/
X-WR-CALDESC:В Академії відбулось засідання кафедри давніх мов та філології
BEGIN:VEVENT
DTSTART:20210918T233000
DTEND:20210918T233000
SUMMARY:В Академії відбулось засідання кафедри давніх мов та філології
DESCRIPTION:Засідання пройшло під головуванням завідувача доцента Левка Олександра Вадимовича.
LOCATION:
END:VEVENT
END:VCALENDAR
