BEGIN:VCALENDAR
VERSION:2.0
PRODID:-//КДАіС
CALSCALE:GREGORIAN
METHOD:PUBLISH
X-WR-CALNAME:КДАіС
X-ORIGINAL-URL:https://kdais.kiev.ua/event/kursy-19092021/
X-WR-CALDESC:170 слухачів Православно-катехізаторських курсів ім. свт. Петра Могили розпочали новий навчальний рік
BEGIN:VEVENT
DTSTART:20210919T233000
DTEND:20210919T233000
SUMMARY:170 слухачів Православно-катехізаторських курсів ім. свт. Петра Могили розпочали новий навчальний рік
DESCRIPTION:Перед початком навчального року ректор КДАіС єпископ Білогородський Сильвестр звершив молебень в Академічному храмі, після чого зустрівся із слухачами в Актовій залі Києво-Печерської Лаври.
LOCATION:
END:VEVENT
END:VCALENDAR
