BEGIN:VCALENDAR
VERSION:2.0
PRODID:-//КДАіС
CALSCALE:GREGORIAN
METHOD:PUBLISH
X-WR-CALNAME:КДАіС
X-ORIGINAL-URL:https://kdais.kiev.ua/event/festyval-22092021/
X-WR-CALDESC:Хор КДА зайняв І місце на 40-му Міжнародному фестивалі «Гайновські дні церковної музики» в Польщі (+повне відео виступу)
BEGIN:VEVENT
DTSTART:20210922T233000
DTEND:20210922T233000
SUMMARY:Хор КДА зайняв І місце на 40-му Міжнародному фестивалі «Гайновські дні церковної музики» в Польщі (+повне відео виступу)
DESCRIPTION:Щорічний міжнародний пісенний конкурс проходив 13-18 вересня 2021 року у Свято-Троїцькому соборі м. Гайновка.
LOCATION:
END:VEVENT
END:VCALENDAR
