BEGIN:VCALENDAR
VERSION:2.0
PRODID:-//КДАіС
CALSCALE:GREGORIAN
METHOD:PUBLISH
X-WR-CALNAME:КДАіС
X-ORIGINAL-URL:https://kdais.kiev.ua/event/liturhiya-23092021/
X-WR-CALDESC:Випускники Семінарії 2011 року молитовно відзначили 10-річчя випуску
BEGIN:VEVENT
DTSTART:20210923T233000
DTEND:20210923T233000
SUMMARY:Випускники Семінарії 2011 року молитовно відзначили 10-річчя випуску
DESCRIPTION:Божественну літургію, за традицією, випускники звершили в Академічному храмі на честь Різдва Божої Матері.
LOCATION:
END:VEVENT
END:VCALENDAR
