BEGIN:VCALENDAR
VERSION:2.0
PRODID:-//КДАіС
CALSCALE:GREGORIAN
METHOD:PUBLISH
X-WR-CALNAME:КДАіС
X-ORIGINAL-URL:https://kdais.kiev.ua/event/publication-30092021/
X-WR-CALDESC:﻿В.В. Бурега, профессор КДА: &#8220;Гомилетика и современная церковная проповедь: проблемы и перспективы&#8221;
BEGIN:VEVENT
DTSTART:20210930T233000
DTEND:20210930T233000
SUMMARY:﻿В.В. Бурега, профессор КДА: &#8220;Гомилетика и современная церковная проповедь: проблемы и перспективы&#8221;
DESCRIPTION:Cтатья профессора Киевской духовной академии, кандидата богословия, кандидата исторических наук Владимира Викторовича Буреги, посвященная вопросам гомилетики.
LOCATION:
END:VEVENT
END:VCALENDAR
