BEGIN:VCALENDAR
VERSION:2.0
PRODID:-//КДАіС
CALSCALE:GREGORIAN
METHOD:PUBLISH
X-WR-CALNAME:КДАіС
X-ORIGINAL-URL:https://kdais.kiev.ua/event/liturhiya-03102021-2/
X-WR-CALDESC:У Неділю після Воздвиження в Академічному храмі була звершена Божественна літургія
BEGIN:VEVENT
DTSTART:20211003T233000
DTEND:20211003T233000
SUMMARY:У Неділю після Воздвиження в Академічному храмі була звершена Божественна літургія
DESCRIPTION:Божественну літургію в Академічному храмі на честь Різдва Божої Матері звершив завідувач заочним відділенням та духівник архімандрит Маркел (Павук).
LOCATION:
END:VEVENT
END:VCALENDAR
