BEGIN:VCALENDAR
VERSION:2.0
PRODID:-//КДАіС
CALSCALE:GREGORIAN
METHOD:PUBLISH
X-WR-CALNAME:КДАіС
X-ORIGINAL-URL:https://kdais.kiev.ua/event/%d0%9f%d0%b0%d1%80%d0%b0%d1%84%d1%96%d1%8f%d0%bd%d0%b8-%d0%90%d0%ba%d0%b0%d0%b4%d0%b5%d0%bc%d1%96%d1%87%d0%bd%d0%be%d0%b3%d0%be-%d1%85%d1%80%d0%b0%d0%bc%d1%83-%d0%9a%d0%94%d0%90-%d0%bf%d0%be%d0%b6/
X-WR-CALDESC:Парафіяни Академічного храму КДА пожертвували церковне начиння для храму столиці
BEGIN:VEVENT
DTSTART:20180321T213000
DTEND:20180321T213000
SUMMARY:Парафіяни Академічного храму КДА пожертвували церковне начиння для храму столиці
DESCRIPTION:Для потреб храму на честь Барської ікони Божої Матері в Голосіївському районі м. Києва були передані підсвічники, панікадило та бра.
LOCATION:
END:VEVENT
END:VCALENDAR
