BEGIN:VCALENDAR
VERSION:2.0
PRODID:-//КДАіС
CALSCALE:GREGORIAN
METHOD:PUBLISH
X-WR-CALNAME:КДАіС
X-ORIGINAL-URL:https://kdais.kiev.ua/event/liturhiya-05102021/
X-WR-CALDESC:Ректор КДА взяв участь в богослужінні з нагоди престольного свята жіночого монастиря на честь ікони Божої Матері «Услишательниця»
BEGIN:VEVENT
DTSTART:20211005T233000
DTEND:20211005T233000
SUMMARY:Ректор КДА взяв участь в богослужінні з нагоди престольного свята жіночого монастиря на честь ікони Божої Матері «Услишательниця»
DESCRIPTION:Єпископ Білогородський Сильвестр взяв участь у соборній Божественній літургії з нагоди престольного свята жіночого монастиря на честь ікони Божої Матері «Услишательниця» с. Фасова Макарівського району Київської області.
LOCATION:
END:VEVENT
END:VCALENDAR
