BEGIN:VCALENDAR
VERSION:2.0
PRODID:-//КДАіС
CALSCALE:GREGORIAN
METHOD:PUBLISH
X-WR-CALNAME:КДАіС
X-ORIGINAL-URL:https://kdais.kiev.ua/event/kafedra-06102021/
X-WR-CALDESC:На засіданні кафедри богослов’я і біблеїстики відбувся передзахист магістерської роботи та розглянута низка важливих питань
BEGIN:VEVENT
DTSTART:20211006T233000
DTEND:20211006T233000
SUMMARY:На засіданні кафедри богослов’я і біблеїстики відбувся передзахист магістерської роботи та розглянута низка важливих питань
DESCRIPTION:Засідання очолив завідувач кафедри — професор ректор Київських духовних шкіл єпископ Білогородський Сильвестр.

LOCATION:
END:VEVENT
END:VCALENDAR
