BEGIN:VCALENDAR
VERSION:2.0
PRODID:-//КДАіС
CALSCALE:GREGORIAN
METHOD:PUBLISH
X-WR-CALNAME:КДАіС
X-ORIGINAL-URL:https://kdais.kiev.ua/event/vitannya-08102021/
X-WR-CALDESC:Вітаємо викладачку КДАіС Короткову Раїсу Іванівну з Днем народження!
BEGIN:VEVENT
DTSTART:20211008T233000
DTEND:20211008T233000
SUMMARY:Вітаємо викладачку КДАіС Короткову Раїсу Іванівну з Днем народження!
DESCRIPTION:Прийміть щирі вітання Київських духовних шкіл з Днем Вашого народження!


LOCATION:
END:VEVENT
END:VCALENDAR
