BEGIN:VCALENDAR
VERSION:2.0
PRODID:-//КДАіС
CALSCALE:GREGORIAN
METHOD:PUBLISH
X-WR-CALNAME:КДАіС
X-ORIGINAL-URL:https://kdais.kiev.ua/event/bdinnya-09102021-2/
X-WR-CALDESC:Ректор КДА бере участь у святкових богослужіннях у Свято-Успенській Святогірській Лаврі (+відео)
BEGIN:VEVENT
DTSTART:20211009T233000
DTEND:20211009T233000
SUMMARY:Ректор КДА бере участь у святкових богослужіннях у Свято-Успенській Святогірській Лаврі (+відео)
DESCRIPTION:Святкування приурочені 30-річчю утворення Донецької єпархії Української Православної Церкви та 30-річчю архієрейської хіротонії священноархімандрита Святогірської Лаври митрополита Донецького і Маріупольського Іларіона.
LOCATION:
END:VEVENT
END:VCALENDAR
