BEGIN:VCALENDAR
VERSION:2.0
PRODID:-//КДАіС
CALSCALE:GREGORIAN
METHOD:PUBLISH
X-WR-CALNAME:КДАіС
X-ORIGINAL-URL:https://kdais.kiev.ua/event/programa-15102021/
X-WR-CALDESC:Програма XIII Міжнародної науково-практичної конференції, 19 жовтня 2021 року
BEGIN:VEVENT
DTSTART:20211015T233000
DTEND:20211015T233000
SUMMARY:Програма XIII Міжнародної науково-практичної конференції, 19 жовтня 2021 року
DESCRIPTION:Конференція присвячена проблемам пастирського служіння в сучасному світі.
LOCATION:
END:VEVENT
END:VCALENDAR
