BEGIN:VCALENDAR
VERSION:2.0
PRODID:-//КДАіС
CALSCALE:GREGORIAN
METHOD:PUBLISH
X-WR-CALNAME:КДАіС
X-ORIGINAL-URL:https://kdais.kiev.ua/event/vitannya-19102021/
X-WR-CALDESC:Вітальне слово Предстоятеля УПЦ організаторам та учасникам ХІIІ Міжнародної науково-практичної конференції
BEGIN:VEVENT
DTSTART:20211019T233000
DTEND:20211019T233000
SUMMARY:Вітальне слово Предстоятеля УПЦ організаторам та учасникам ХІIІ Міжнародної науково-практичної конференції
DESCRIPTION:Блаженніший Митрополит Київський і всієї України Онуфрій звернувся до організаторів та учасників ХІІІ Міжнародної науково-практичної конференції, присвяченої проблемам пастирського служіння в сучасному світі.
LOCATION:
END:VEVENT
END:VCALENDAR
