BEGIN:VCALENDAR
VERSION:2.0
PRODID:-//КДАіС
CALSCALE:GREGORIAN
METHOD:PUBLISH
X-WR-CALNAME:КДАіС
X-ORIGINAL-URL:https://kdais.kiev.ua/event/disk-26102021/
X-WR-CALDESC:Побачила світ чергова електронна версія часопису «Руководство для сельских пастырей»
BEGIN:VEVENT
DTSTART:20211026T233000
DTEND:20211026T233000
SUMMARY:Побачила світ чергова електронна версія часопису «Руководство для сельских пастырей»
DESCRIPTION:Диск є продовженням початого у 2015 році процесу відцифровки журналу та вміщує відскановані матеріали з 1881 по 1890 роки.
LOCATION:
END:VEVENT
END:VCALENDAR
