BEGIN:VCALENDAR
VERSION:2.0
PRODID:-//КДАіС
CALSCALE:GREGORIAN
METHOD:PUBLISH
X-WR-CALNAME:КДАіС
X-ORIGINAL-URL:https://kdais.kiev.ua/event/propovid-ukr-07112021/
X-WR-CALDESC:«Навіть якщо помістити злу людину до раю — вона перетворить його на пекло». Проповідь у Неділю 20-ту після П&#8217;ятидесятниці
BEGIN:VEVENT
DTSTART:20211107T233000
DTEND:20211107T233000
SUMMARY:«Навіть якщо помістити злу людину до раю — вона перетворить його на пекло». Проповідь у Неділю 20-ту після П&#8217;ятидесятниці
DESCRIPTION:Проповідь ректора Київської духовної академії і семінарії єпископа Білогородського Сильвестра на Недільне Євангельське читання від Луки 16:19-31.
LOCATION:
END:VEVENT
END:VCALENDAR
