BEGIN:VCALENDAR
VERSION:2.0
PRODID:-//КДАіС
CALSCALE:GREGORIAN
METHOD:PUBLISH
X-WR-CALNAME:КДАіС
X-ORIGINAL-URL:https://kdais.kiev.ua/event/litiya-08112021/
X-WR-CALDESC:Розпочались заходи з нагоди святкування Актового дня Київських духовних шкіл
BEGIN:VEVENT
DTSTART:20211108T233000
DTEND:20211108T233000
SUMMARY:Розпочались заходи з нагоди святкування Актового дня Київських духовних шкіл
DESCRIPTION:Традиційно, напередодні Актового дня в Академічному храмі на честь Різдва Божої Матері звершується заупокійна літія за спочилими ректорами, викладачами та вихованцями Київських духовних шкіл.
LOCATION:
END:VEVENT
END:VCALENDAR
