BEGIN:VCALENDAR
VERSION:2.0
PRODID:-//КДАіС
CALSCALE:GREGORIAN
METHOD:PUBLISH
X-WR-CALNAME:КДАіС
X-ORIGINAL-URL:https://kdais.kiev.ua/event/moleben-08112021/
X-WR-CALDESC:Академія звершила молебень біля мощей прп. Нестора Літописця напередодні дня його пам’яті
BEGIN:VEVENT
DTSTART:20211108T233000
DTEND:20211108T233000
SUMMARY:Академія звершила молебень біля мощей прп. Нестора Літописця напередодні дня його пам’яті
DESCRIPTION:Святкове богослужіння перед мощами небесного покровителя Київських духовних шкіл звершив ректор Київської духовної академії і семінарії єпископ Білогородський Сильвестр.
LOCATION:
END:VEVENT
END:VCALENDAR
