BEGIN:VCALENDAR
VERSION:2.0
PRODID:-//КДАіС
CALSCALE:GREGORIAN
METHOD:PUBLISH
X-WR-CALNAME:КДАіС
X-ORIGINAL-URL:https://kdais.kiev.ua/event/forum-11112021/
X-WR-CALDESC:Завершилась друга частина Міжнародної конференції, присвяченої питанням соборності
BEGIN:VEVENT
DTSTART:20211111T233000
DTEND:20211111T233000
SUMMARY:Завершилась друга частина Міжнародної конференції, присвяченої питанням соборності
DESCRIPTION:В роботі другої частини форуму взяли 19 доповідачів, серед яких були представники 4 Помісних Православних Церков.
LOCATION:
END:VEVENT
END:VCALENDAR
