BEGIN:VCALENDAR
VERSION:2.0
PRODID:-//КДАіС
CALSCALE:GREGORIAN
METHOD:PUBLISH
X-WR-CALNAME:КДАіС
X-ORIGINAL-URL:https://kdais.kiev.ua/event/forum-12112021/
X-WR-CALDESC:Доцент КДА виступив на Міжнародній конференції, присвяченій ієрархії в житті Церкви
BEGIN:VEVENT
DTSTART:20211112T233000
DTEND:20211112T233000
SUMMARY:Доцент КДА виступив на Міжнародній конференції, присвяченій ієрархії в житті Церкви
DESCRIPTION:Участь у міжнародному форумі очно і дистанційно взяли понад 60 богословів, істориків, каноністів, літургістів та світських науковців з різних країн світу.
LOCATION:
END:VEVENT
END:VCALENDAR
