BEGIN:VCALENDAR
VERSION:2.0
PRODID:-//КДАіС
CALSCALE:GREGORIAN
METHOD:PUBLISH
X-WR-CALNAME:КДАіС
X-ORIGINAL-URL:https://kdais.kiev.ua/event/litiya-23112021/
X-WR-CALDESC:У 86-ту річницю з Дня народження спочилого Предстоятеля УПЦ на його могилі відслужена заупокійна літія
BEGIN:VEVENT
DTSTART:20211123T233000
DTEND:20211123T233000
SUMMARY:У 86-ту річницю з Дня народження спочилого Предстоятеля УПЦ на його могилі відслужена заупокійна літія
DESCRIPTION:З благословення єпископа Білогородського Сильвестра, академічне духовенство відслужило заупокійну літію на могилі приснопам‘ятного Блаженнішого Митрополита Володимира.
LOCATION:
END:VEVENT
END:VCALENDAR
