BEGIN:VCALENDAR
VERSION:2.0
PRODID:-//КДАіС
CALSCALE:GREGORIAN
METHOD:PUBLISH
X-WR-CALNAME:КДАіС
X-ORIGINAL-URL:https://kdais.kiev.ua/event/liturhiya-25112021/
X-WR-CALDESC:У день пам&#8217;яті свт. Сильвестра (Малеванського) та сщмч. Олександра Глаголєва в КДА відслужена Божественна літургія
BEGIN:VEVENT
DTSTART:20211125T233000
DTEND:20211125T233000
SUMMARY:У день пам&#8217;яті свт. Сильвестра (Малеванського) та сщмч. Олександра Глаголєва в КДА відслужена Божественна літургія
DESCRIPTION:Богослужіння в Академічному храмі на честь Різдва Божої Матері звершив ректор Київських духовних шкіл єпископ Білогородський Сильвестр.
LOCATION:
END:VEVENT
END:VCALENDAR
