BEGIN:VCALENDAR
VERSION:2.0
PRODID:-//КДАіС
CALSCALE:GREGORIAN
METHOD:PUBLISH
X-WR-CALNAME:КДАіС
X-ORIGINAL-URL:https://kdais.kiev.ua/event/%d0%a7%d0%b5%d1%82%d0%b2%d0%b5%d1%80-5-%d1%97-%d1%81%d0%b5%d0%b4%d0%bc%d0%b8%d1%86%d1%96-%d0%92%d0%b5%d0%bb%d0%b8%d0%ba%d0%be%d0%b3%d0%be-%d0%bf%d0%be%d1%81%d1%82%d1%83/
X-WR-CALDESC:Четвер 5-ї седмиці Великого посту
BEGIN:VEVENT
DTSTART:20180322T213000
DTEND:20180322T213000
SUMMARY:Четвер 5-ї седмиці Великого посту
DESCRIPTION:Керуючий справами Української Православної Церкви митрополит Бориспільський і Броварський Антоній звершив Літургію Передосвячених Дарів в Академічному храмі на честь Різдва Божої Матері.
LOCATION:
END:VEVENT
END:VCALENDAR
