BEGIN:VCALENDAR
VERSION:2.0
PRODID:-//КДАіС
CALSCALE:GREGORIAN
METHOD:PUBLISH
X-WR-CALNAME:КДАіС
X-ORIGINAL-URL:https://kdais.kiev.ua/event/liturhiya-09122021/
X-WR-CALDESC:Академія молилась за урочистим богослужінням з нагоди 31-ої річниці архієрейської хіротонії Блаженнішого Митрополита Онуфрія (+ВІДЕО)
BEGIN:VEVENT
DTSTART:20211209T233000
DTEND:20211209T233000
SUMMARY:Академія молилась за урочистим богослужінням з нагоди 31-ої річниці архієрейської хіротонії Блаженнішого Митрополита Онуфрія (+ВІДЕО)
DESCRIPTION:Богослужіння очолив Блаженніший Митрополит Київський і всієї України Онуфрій, якому співслужили сонм архієреїв Української Православної Церкви, Руської Православної Церкви Закордоном, духовенство обителі та гості у священному сані.
LOCATION:
END:VEVENT
END:VCALENDAR
