BEGIN:VCALENDAR
VERSION:2.0
PRODID:-//КДАіС
CALSCALE:GREGORIAN
METHOD:PUBLISH
X-WR-CALNAME:КДАіС
X-ORIGINAL-URL:https://kdais.kiev.ua/event/kafedra-09122021/
X-WR-CALDESC:В КДАіС відбулось засідання кафедри церковної історії
BEGIN:VEVENT
DTSTART:20211209T233000
DTEND:20211209T233000
SUMMARY:В КДАіС відбулось засідання кафедри церковної історії
DESCRIPTION:Засідання відбулось під головуванням завідувача кафедри професора В.В. Буреги.
LOCATION:
END:VEVENT
END:VCALENDAR
